BEGIN:VCALENDAR
VERSION:2.0
PRODID:-//Kerith House - ECPv6.15.20//NONSGML v1.0//EN
CALSCALE:GREGORIAN
METHOD:PUBLISH
X-WR-CALNAME:Kerith House
X-ORIGINAL-URL:https://kerithhouse.com
X-WR-CALDESC:Events for Kerith House
REFRESH-INTERVAL;VALUE=DURATION:PT1H
X-Robots-Tag:noindex
X-PUBLISHED-TTL:PT1H
BEGIN:VTIMEZONE
TZID:America/New_York
BEGIN:DAYLIGHT
TZOFFSETFROM:-0500
TZOFFSETTO:-0400
TZNAME:EDT
DTSTART:20250309T070000
END:DAYLIGHT
BEGIN:STANDARD
TZOFFSETFROM:-0400
TZOFFSETTO:-0500
TZNAME:EST
DTSTART:20251102T060000
END:STANDARD
BEGIN:DAYLIGHT
TZOFFSETFROM:-0500
TZOFFSETTO:-0400
TZNAME:EDT
DTSTART:20260308T070000
END:DAYLIGHT
BEGIN:STANDARD
TZOFFSETFROM:-0400
TZOFFSETTO:-0500
TZNAME:EST
DTSTART:20261101T060000
END:STANDARD
BEGIN:DAYLIGHT
TZOFFSETFROM:-0500
TZOFFSETTO:-0400
TZNAME:EDT
DTSTART:20270314T070000
END:DAYLIGHT
BEGIN:STANDARD
TZOFFSETFROM:-0400
TZOFFSETTO:-0500
TZNAME:EST
DTSTART:20271107T060000
END:STANDARD
END:VTIMEZONE
BEGIN:VEVENT
DTSTART;TZID=America/New_York:20260621T123000
DTEND;TZID=America/New_York:20260621T180000
DTSTAMP:20260425T145852
CREATED:20251216T215528Z
LAST-MODIFIED:20251216T215528Z
UID:10002348-1782045000-1782064800@kerithhouse.com
SUMMARY:Father's Day
DESCRIPTION:Watch this space for details!
URL:https://kerithhouse.com/event-calendar/fathers-day/
LOCATION:Kerith House
CATEGORIES:Kerith House Events
ATTACH;FMTTYPE=image/png:https://kerithhouse.com/wp-content/uploads/2025/12/FB0E5365-0452-4DE9-BDFF-2546296C2D48.png
END:VEVENT
BEGIN:VEVENT
DTSTART;TZID=America/New_York:20260621T133000
DTEND;TZID=America/New_York:20260621T163000
DTSTAMP:20260425T145852
CREATED:20251216T161417Z
LAST-MODIFIED:20251216T200556Z
UID:10002080-1782048600-1782059400@kerithhouse.com
SUMMARY:Live Music-Harold Crowder
DESCRIPTION:Please join us as we welcome Harold Crowder. His passion is the story-telling beauty of old country music and his mission is to keep it alive.
URL:https://kerithhouse.com/event-calendar/live-music-harold-crowder/2026-06-21/
LOCATION:Kerith House
CATEGORIES:Live Music
ATTACH;FMTTYPE=image/jpeg:https://kerithhouse.com/wp-content/uploads/2025/12/561780762_844341294932157_1994691753335005833_n.jpg
END:VEVENT
BEGIN:VEVENT
DTSTART;TZID=America/New_York:20260624T160000
DTEND;TZID=America/New_York:20260624T170000
DTSTAMP:20260425T145852
CREATED:20260420T001225Z
LAST-MODIFIED:20260420T001225Z
UID:10002650-1782316800-1782320400@kerithhouse.com
SUMMARY:The Literary Glass Wednesday Book Club
DESCRIPTION:Come join Jess Barker the fourth Wednesday of each month for a book club. Enjoy stories that are set in Jane Austen’s England or here in the American south. These along with good company and a glass of Kerith House wine  will give you the makings of a perfect Wednesday afternoon.  \nThis month’s book is The Awakening by Kate Chopin. Buy your copy downtown Blue Ridge at Copper Fox Bookstore & Coffee Bar.
URL:https://kerithhouse.com/event-calendar/the-literary-glass-wednesday-book-club-2/
LOCATION:Kerith House
CATEGORIES:Book Club
ATTACH;FMTTYPE=image/png:https://kerithhouse.com/wp-content/uploads/2026/04/Awakening_June_1920x1080.png
END:VEVENT
BEGIN:VEVENT
DTSTART;TZID=America/New_York:20260627T143000
DTEND;TZID=America/New_York:20260627T173000
DTSTAMP:20260425T145852
CREATED:20251216T191119Z
LAST-MODIFIED:20251216T191828Z
UID:10000547-1782570600-1782581400@kerithhouse.com
SUMMARY:Live Music-Ray LaBean
DESCRIPTION:Ray began playing at the age of 7 years old when his father and mother handed him a guitar and taught him all the basic chords to play a song on his own. Motivated by encouragement from his parents\, he soon joined his first band in his early teens. Ray is a guitarist/singer/songwriter proficient in Country music\, and moved on to Rock and Roll\, Folk\, Gospel\, and Christian Contemporary. Ray has performed in many venues such as lounges\, restaurants and cafes and has sung at weddings and lead music in many churches. In the early 80s he began writing his own material\, and went on to record some singles records and performed on a local television program in Detroit\, MI. Ray’s instrumental\, “Train to Glory” landed him first place at the 1999 MARS MUSIC Acoustic Guitar Contest in Fort Lauderdale\, FL. Ray went on to record two albums of his own original material. He currently performs “Classic Rock”\, a few Country Tunes and some Mandolin instrumentals in local restaurants. Ray is married and has four children and four grandchildren\, he currently resides with his wife Ann in North Georgia.
URL:https://kerithhouse.com/event-calendar/live-music-ray-labean/2026-06-27/
LOCATION:Kerith House
CATEGORIES:Live Music
ATTACH;FMTTYPE=image/jpeg:https://kerithhouse.com/wp-content/uploads/2025/11/View-recent-photos.jpeg
END:VEVENT
BEGIN:VEVENT
DTSTART;TZID=America/New_York:20260627T180000
DTEND;TZID=America/New_York:20260627T183000
DTSTAMP:20260425T145852
CREATED:20260207T015651Z
LAST-MODIFIED:20260311T021241Z
UID:10002606-1782583200-1782585000@kerithhouse.com
SUMMARY:Kerith House Vineyard Piper
DESCRIPTION:Come be a part of tradition and listen to our piper serenading the vines. Sometimes\, the weather is too cold for the pipes to work properly. Depending on the piper and if he or she has indoor pipes\, we may have to cancel on those days. Check our Facebook or Instagram pages if in doubt. 
URL:https://kerithhouse.com/event-calendar/kerith-house-vineyard-piper-3/2026-06-27/
LOCATION:Kerith House
CATEGORIES:Live Music
ATTACH;FMTTYPE=image/heic:https://kerithhouse.com/wp-content/uploads/2025/12/CDACC591-410F-47DB-8FEE-BD0675838654_1_201_a-scaled.jpg
END:VEVENT
BEGIN:VEVENT
DTSTART;TZID=America/New_York:20260704T120000
DTEND;TZID=America/New_York:20260704T190000
DTSTAMP:20260425T145852
CREATED:20251216T215721Z
LAST-MODIFIED:20251216T215721Z
UID:10002349-1783166400-1783191600@kerithhouse.com
SUMMARY:July 4th
DESCRIPTION:Watch this space for details!
URL:https://kerithhouse.com/event-calendar/july-4th/
LOCATION:Kerith House
CATEGORIES:Kerith House Events
ATTACH;FMTTYPE=image/png:https://kerithhouse.com/wp-content/uploads/2025/12/EB741D25-75C6-4BAA-92E5-3BCF2E63FF44.png
END:VEVENT
BEGIN:VEVENT
DTSTART;TZID=America/New_York:20260704T180000
DTEND;TZID=America/New_York:20260704T183000
DTSTAMP:20260425T145852
CREATED:20260207T015651Z
LAST-MODIFIED:20260311T021241Z
UID:10002607-1783188000-1783189800@kerithhouse.com
SUMMARY:Kerith House Vineyard Piper
DESCRIPTION:Come be a part of tradition and listen to our piper serenading the vines. Sometimes\, the weather is too cold for the pipes to work properly. Depending on the piper and if he or she has indoor pipes\, we may have to cancel on those days. Check our Facebook or Instagram pages if in doubt. 
URL:https://kerithhouse.com/event-calendar/kerith-house-vineyard-piper-3/2026-07-04/
LOCATION:Kerith House
CATEGORIES:Live Music
ATTACH;FMTTYPE=image/heic:https://kerithhouse.com/wp-content/uploads/2025/12/CDACC591-410F-47DB-8FEE-BD0675838654_1_201_a-scaled.jpg
END:VEVENT
BEGIN:VEVENT
DTSTART;TZID=America/New_York:20260711T180000
DTEND;TZID=America/New_York:20260711T183000
DTSTAMP:20260425T145852
CREATED:20260207T015651Z
LAST-MODIFIED:20260311T021241Z
UID:10002608-1783792800-1783794600@kerithhouse.com
SUMMARY:Kerith House Vineyard Piper
DESCRIPTION:Come be a part of tradition and listen to our piper serenading the vines. Sometimes\, the weather is too cold for the pipes to work properly. Depending on the piper and if he or she has indoor pipes\, we may have to cancel on those days. Check our Facebook or Instagram pages if in doubt. 
URL:https://kerithhouse.com/event-calendar/kerith-house-vineyard-piper-3/2026-07-11/
LOCATION:Kerith House
CATEGORIES:Live Music
ATTACH;FMTTYPE=image/heic:https://kerithhouse.com/wp-content/uploads/2025/12/CDACC591-410F-47DB-8FEE-BD0675838654_1_201_a-scaled.jpg
END:VEVENT
BEGIN:VEVENT
DTSTART;TZID=America/New_York:20260718T143000
DTEND;TZID=America/New_York:20260718T193000
DTSTAMP:20260425T145852
CREATED:20251216T191119Z
LAST-MODIFIED:20251216T191828Z
UID:10000548-1784385000-1784403000@kerithhouse.com
SUMMARY:Live Music-Ray LaBean
DESCRIPTION:Ray began playing at the age of 7 years old when his father and mother handed him a guitar and taught him all the basic chords to play a song on his own. Motivated by encouragement from his parents\, he soon joined his first band in his early teens. Ray is a guitarist/singer/songwriter proficient in Country music\, and moved on to Rock and Roll\, Folk\, Gospel\, and Christian Contemporary. Ray has performed in many venues such as lounges\, restaurants and cafes and has sung at weddings and lead music in many churches. In the early 80s he began writing his own material\, and went on to record some singles records and performed on a local television program in Detroit\, MI. Ray’s instrumental\, “Train to Glory” landed him first place at the 1999 MARS MUSIC Acoustic Guitar Contest in Fort Lauderdale\, FL. Ray went on to record two albums of his own original material. He currently performs “Classic Rock”\, a few Country Tunes and some Mandolin instrumentals in local restaurants. Ray is married and has four children and four grandchildren\, he currently resides with his wife Ann in North Georgia.
URL:https://kerithhouse.com/event-calendar/live-music-ray-labean/2026-07-18/
LOCATION:Kerith House
CATEGORIES:Live Music
ATTACH;FMTTYPE=image/jpeg:https://kerithhouse.com/wp-content/uploads/2025/11/View-recent-photos.jpeg
END:VEVENT
BEGIN:VEVENT
DTSTART;TZID=America/New_York:20260718T180000
DTEND;TZID=America/New_York:20260718T183000
DTSTAMP:20260425T145852
CREATED:20260207T015651Z
LAST-MODIFIED:20260311T021241Z
UID:10002609-1784397600-1784399400@kerithhouse.com
SUMMARY:Kerith House Vineyard Piper
DESCRIPTION:Come be a part of tradition and listen to our piper serenading the vines. Sometimes\, the weather is too cold for the pipes to work properly. Depending on the piper and if he or she has indoor pipes\, we may have to cancel on those days. Check our Facebook or Instagram pages if in doubt. 
URL:https://kerithhouse.com/event-calendar/kerith-house-vineyard-piper-3/2026-07-18/
LOCATION:Kerith House
CATEGORIES:Live Music
ATTACH;FMTTYPE=image/heic:https://kerithhouse.com/wp-content/uploads/2025/12/CDACC591-410F-47DB-8FEE-BD0675838654_1_201_a-scaled.jpg
END:VEVENT
BEGIN:VEVENT
DTSTART;TZID=America/New_York:20260725T143000
DTEND;TZID=America/New_York:20260725T173000
DTSTAMP:20260425T145852
CREATED:20251216T200445Z
LAST-MODIFIED:20251216T200445Z
UID:10002079-1784989800-1785000600@kerithhouse.com
SUMMARY:Live Music-Denise Moore
DESCRIPTION:Denise Moore former resident of Tampa Bay 30 year career record recording artist specializing in great American songbook jazz and blues and Latin jazz. Mike Ewbank also former resident Of Tampa but most recently in the Atlanta area Jazz pianist extraordinaire 40 years plus recording artist. Additionally Preston Corn of Canton Georgia percussionist recording artist . In 2025 we would have completed 70 engagements in the North Carolina \,North Georgia Tennessee area include Jazzfestival‘s concerts vineyards\, jazz brunches\, and nightclubs. A list can be provided upon request.
URL:https://kerithhouse.com/event-calendar/live-music-denise-moore/2026-07-25/
LOCATION:Kerith House
CATEGORIES:Live Music
ATTACH;FMTTYPE=image/jpeg:https://kerithhouse.com/wp-content/uploads/2025/12/54F9F5BA-9E14-4CB8-9101-ABF29F89CBC9_1_201_a-scaled.jpeg
END:VEVENT
BEGIN:VEVENT
DTSTART;TZID=America/New_York:20260725T180000
DTEND;TZID=America/New_York:20260725T183000
DTSTAMP:20260425T145852
CREATED:20260207T015651Z
LAST-MODIFIED:20260311T021241Z
UID:10002610-1785002400-1785004200@kerithhouse.com
SUMMARY:Kerith House Vineyard Piper
DESCRIPTION:Come be a part of tradition and listen to our piper serenading the vines. Sometimes\, the weather is too cold for the pipes to work properly. Depending on the piper and if he or she has indoor pipes\, we may have to cancel on those days. Check our Facebook or Instagram pages if in doubt. 
URL:https://kerithhouse.com/event-calendar/kerith-house-vineyard-piper-3/2026-07-25/
LOCATION:Kerith House
CATEGORIES:Live Music
ATTACH;FMTTYPE=image/heic:https://kerithhouse.com/wp-content/uploads/2025/12/CDACC591-410F-47DB-8FEE-BD0675838654_1_201_a-scaled.jpg
END:VEVENT
BEGIN:VEVENT
DTSTART;TZID=America/New_York:20260801T180000
DTEND;TZID=America/New_York:20260801T183000
DTSTAMP:20260425T145852
CREATED:20260207T015651Z
LAST-MODIFIED:20260311T021241Z
UID:10002611-1785607200-1785609000@kerithhouse.com
SUMMARY:Kerith House Vineyard Piper
DESCRIPTION:Come be a part of tradition and listen to our piper serenading the vines. Sometimes\, the weather is too cold for the pipes to work properly. Depending on the piper and if he or she has indoor pipes\, we may have to cancel on those days. Check our Facebook or Instagram pages if in doubt. 
URL:https://kerithhouse.com/event-calendar/kerith-house-vineyard-piper-3/2026-08-01/
LOCATION:Kerith House
CATEGORIES:Live Music
ATTACH;FMTTYPE=image/heic:https://kerithhouse.com/wp-content/uploads/2025/12/CDACC591-410F-47DB-8FEE-BD0675838654_1_201_a-scaled.jpg
END:VEVENT
BEGIN:VEVENT
DTSTART;TZID=America/New_York:20260808T180000
DTEND;TZID=America/New_York:20260808T183000
DTSTAMP:20260425T145853
CREATED:20260207T015651Z
LAST-MODIFIED:20260311T021241Z
UID:10002612-1786212000-1786213800@kerithhouse.com
SUMMARY:Kerith House Vineyard Piper
DESCRIPTION:Come be a part of tradition and listen to our piper serenading the vines. Sometimes\, the weather is too cold for the pipes to work properly. Depending on the piper and if he or she has indoor pipes\, we may have to cancel on those days. Check our Facebook or Instagram pages if in doubt. 
URL:https://kerithhouse.com/event-calendar/kerith-house-vineyard-piper-3/2026-08-08/
LOCATION:Kerith House
CATEGORIES:Live Music
ATTACH;FMTTYPE=image/heic:https://kerithhouse.com/wp-content/uploads/2025/12/CDACC591-410F-47DB-8FEE-BD0675838654_1_201_a-scaled.jpg
END:VEVENT
BEGIN:VEVENT
DTSTART;TZID=America/New_York:20260815T180000
DTEND;TZID=America/New_York:20260815T183000
DTSTAMP:20260425T145853
CREATED:20260207T015651Z
LAST-MODIFIED:20260311T021241Z
UID:10002613-1786816800-1786818600@kerithhouse.com
SUMMARY:Kerith House Vineyard Piper
DESCRIPTION:Come be a part of tradition and listen to our piper serenading the vines. Sometimes\, the weather is too cold for the pipes to work properly. Depending on the piper and if he or she has indoor pipes\, we may have to cancel on those days. Check our Facebook or Instagram pages if in doubt. 
URL:https://kerithhouse.com/event-calendar/kerith-house-vineyard-piper-3/2026-08-15/
LOCATION:Kerith House
CATEGORIES:Live Music
ATTACH;FMTTYPE=image/heic:https://kerithhouse.com/wp-content/uploads/2025/12/CDACC591-410F-47DB-8FEE-BD0675838654_1_201_a-scaled.jpg
END:VEVENT
BEGIN:VEVENT
DTSTART;TZID=America/New_York:20260822T180000
DTEND;TZID=America/New_York:20260822T183000
DTSTAMP:20260425T145853
CREATED:20260207T015651Z
LAST-MODIFIED:20260311T021241Z
UID:10002614-1787421600-1787423400@kerithhouse.com
SUMMARY:Kerith House Vineyard Piper
DESCRIPTION:Come be a part of tradition and listen to our piper serenading the vines. Sometimes\, the weather is too cold for the pipes to work properly. Depending on the piper and if he or she has indoor pipes\, we may have to cancel on those days. Check our Facebook or Instagram pages if in doubt. 
URL:https://kerithhouse.com/event-calendar/kerith-house-vineyard-piper-3/2026-08-22/
LOCATION:Kerith House
CATEGORIES:Live Music
ATTACH;FMTTYPE=image/heic:https://kerithhouse.com/wp-content/uploads/2025/12/CDACC591-410F-47DB-8FEE-BD0675838654_1_201_a-scaled.jpg
END:VEVENT
BEGIN:VEVENT
DTSTART;TZID=America/New_York:20260829T180000
DTEND;TZID=America/New_York:20260829T183000
DTSTAMP:20260425T145853
CREATED:20260207T015651Z
LAST-MODIFIED:20260311T021241Z
UID:10002615-1788026400-1788028200@kerithhouse.com
SUMMARY:Kerith House Vineyard Piper
DESCRIPTION:Come be a part of tradition and listen to our piper serenading the vines. Sometimes\, the weather is too cold for the pipes to work properly. Depending on the piper and if he or she has indoor pipes\, we may have to cancel on those days. Check our Facebook or Instagram pages if in doubt. 
URL:https://kerithhouse.com/event-calendar/kerith-house-vineyard-piper-3/2026-08-29/
LOCATION:Kerith House
CATEGORIES:Live Music
ATTACH;FMTTYPE=image/heic:https://kerithhouse.com/wp-content/uploads/2025/12/CDACC591-410F-47DB-8FEE-BD0675838654_1_201_a-scaled.jpg
END:VEVENT
BEGIN:VEVENT
DTSTART;TZID=America/New_York:20260905T180000
DTEND;TZID=America/New_York:20260905T183000
DTSTAMP:20260425T145853
CREATED:20260207T015651Z
LAST-MODIFIED:20260311T021241Z
UID:10002616-1788631200-1788633000@kerithhouse.com
SUMMARY:Kerith House Vineyard Piper
DESCRIPTION:Come be a part of tradition and listen to our piper serenading the vines. Sometimes\, the weather is too cold for the pipes to work properly. Depending on the piper and if he or she has indoor pipes\, we may have to cancel on those days. Check our Facebook or Instagram pages if in doubt. 
URL:https://kerithhouse.com/event-calendar/kerith-house-vineyard-piper-3/2026-09-05/
LOCATION:Kerith House
CATEGORIES:Live Music
ATTACH;FMTTYPE=image/heic:https://kerithhouse.com/wp-content/uploads/2025/12/CDACC591-410F-47DB-8FEE-BD0675838654_1_201_a-scaled.jpg
END:VEVENT
BEGIN:VEVENT
DTSTART;TZID=America/New_York:20260912T180000
DTEND;TZID=America/New_York:20260912T183000
DTSTAMP:20260425T145853
CREATED:20260207T015651Z
LAST-MODIFIED:20260311T021241Z
UID:10002617-1789236000-1789237800@kerithhouse.com
SUMMARY:Kerith House Vineyard Piper
DESCRIPTION:Come be a part of tradition and listen to our piper serenading the vines. Sometimes\, the weather is too cold for the pipes to work properly. Depending on the piper and if he or she has indoor pipes\, we may have to cancel on those days. Check our Facebook or Instagram pages if in doubt. 
URL:https://kerithhouse.com/event-calendar/kerith-house-vineyard-piper-3/2026-09-12/
LOCATION:Kerith House
CATEGORIES:Live Music
ATTACH;FMTTYPE=image/heic:https://kerithhouse.com/wp-content/uploads/2025/12/CDACC591-410F-47DB-8FEE-BD0675838654_1_201_a-scaled.jpg
END:VEVENT
BEGIN:VEVENT
DTSTART;TZID=America/New_York:20260919T180000
DTEND;TZID=America/New_York:20260919T183000
DTSTAMP:20260425T145853
CREATED:20260207T015651Z
LAST-MODIFIED:20260311T021241Z
UID:10002618-1789840800-1789842600@kerithhouse.com
SUMMARY:Kerith House Vineyard Piper
DESCRIPTION:Come be a part of tradition and listen to our piper serenading the vines. Sometimes\, the weather is too cold for the pipes to work properly. Depending on the piper and if he or she has indoor pipes\, we may have to cancel on those days. Check our Facebook or Instagram pages if in doubt. 
URL:https://kerithhouse.com/event-calendar/kerith-house-vineyard-piper-3/2026-09-19/
LOCATION:Kerith House
CATEGORIES:Live Music
ATTACH;FMTTYPE=image/heic:https://kerithhouse.com/wp-content/uploads/2025/12/CDACC591-410F-47DB-8FEE-BD0675838654_1_201_a-scaled.jpg
END:VEVENT
BEGIN:VEVENT
DTSTART;TZID=America/New_York:20260926T180000
DTEND;TZID=America/New_York:20260926T183000
DTSTAMP:20260425T145853
CREATED:20260207T015651Z
LAST-MODIFIED:20260311T021241Z
UID:10002619-1790445600-1790447400@kerithhouse.com
SUMMARY:Kerith House Vineyard Piper
DESCRIPTION:Come be a part of tradition and listen to our piper serenading the vines. Sometimes\, the weather is too cold for the pipes to work properly. Depending on the piper and if he or she has indoor pipes\, we may have to cancel on those days. Check our Facebook or Instagram pages if in doubt. 
URL:https://kerithhouse.com/event-calendar/kerith-house-vineyard-piper-3/2026-09-26/
LOCATION:Kerith House
CATEGORIES:Live Music
ATTACH;FMTTYPE=image/heic:https://kerithhouse.com/wp-content/uploads/2025/12/CDACC591-410F-47DB-8FEE-BD0675838654_1_201_a-scaled.jpg
END:VEVENT
BEGIN:VEVENT
DTSTART;TZID=America/New_York:20261003T180000
DTEND;TZID=America/New_York:20261003T183000
DTSTAMP:20260425T145853
CREATED:20260207T015651Z
LAST-MODIFIED:20260311T021241Z
UID:10002620-1791050400-1791052200@kerithhouse.com
SUMMARY:Kerith House Vineyard Piper
DESCRIPTION:Come be a part of tradition and listen to our piper serenading the vines. Sometimes\, the weather is too cold for the pipes to work properly. Depending on the piper and if he or she has indoor pipes\, we may have to cancel on those days. Check our Facebook or Instagram pages if in doubt. 
URL:https://kerithhouse.com/event-calendar/kerith-house-vineyard-piper-3/2026-10-03/
LOCATION:Kerith House
CATEGORIES:Live Music
ATTACH;FMTTYPE=image/heic:https://kerithhouse.com/wp-content/uploads/2025/12/CDACC591-410F-47DB-8FEE-BD0675838654_1_201_a-scaled.jpg
END:VEVENT
BEGIN:VEVENT
DTSTART;TZID=America/New_York:20261010T180000
DTEND;TZID=America/New_York:20261010T183000
DTSTAMP:20260425T145853
CREATED:20260207T015651Z
LAST-MODIFIED:20260311T021241Z
UID:10002621-1791655200-1791657000@kerithhouse.com
SUMMARY:Kerith House Vineyard Piper
DESCRIPTION:Come be a part of tradition and listen to our piper serenading the vines. Sometimes\, the weather is too cold for the pipes to work properly. Depending on the piper and if he or she has indoor pipes\, we may have to cancel on those days. Check our Facebook or Instagram pages if in doubt. 
URL:https://kerithhouse.com/event-calendar/kerith-house-vineyard-piper-3/2026-10-10/
LOCATION:Kerith House
CATEGORIES:Live Music
ATTACH;FMTTYPE=image/heic:https://kerithhouse.com/wp-content/uploads/2025/12/CDACC591-410F-47DB-8FEE-BD0675838654_1_201_a-scaled.jpg
END:VEVENT
BEGIN:VEVENT
DTSTART;TZID=America/New_York:20261017T180000
DTEND;TZID=America/New_York:20261017T183000
DTSTAMP:20260425T145853
CREATED:20260207T015651Z
LAST-MODIFIED:20260311T021241Z
UID:10002622-1792260000-1792261800@kerithhouse.com
SUMMARY:Kerith House Vineyard Piper
DESCRIPTION:Come be a part of tradition and listen to our piper serenading the vines. Sometimes\, the weather is too cold for the pipes to work properly. Depending on the piper and if he or she has indoor pipes\, we may have to cancel on those days. Check our Facebook or Instagram pages if in doubt. 
URL:https://kerithhouse.com/event-calendar/kerith-house-vineyard-piper-3/2026-10-17/
LOCATION:Kerith House
CATEGORIES:Live Music
ATTACH;FMTTYPE=image/heic:https://kerithhouse.com/wp-content/uploads/2025/12/CDACC591-410F-47DB-8FEE-BD0675838654_1_201_a-scaled.jpg
END:VEVENT
BEGIN:VEVENT
DTSTART;TZID=America/New_York:20261024T180000
DTEND;TZID=America/New_York:20261024T183000
DTSTAMP:20260425T145853
CREATED:20260207T015651Z
LAST-MODIFIED:20260311T021241Z
UID:10002623-1792864800-1792866600@kerithhouse.com
SUMMARY:Kerith House Vineyard Piper
DESCRIPTION:Come be a part of tradition and listen to our piper serenading the vines. Sometimes\, the weather is too cold for the pipes to work properly. Depending on the piper and if he or she has indoor pipes\, we may have to cancel on those days. Check our Facebook or Instagram pages if in doubt. 
URL:https://kerithhouse.com/event-calendar/kerith-house-vineyard-piper-3/2026-10-24/
LOCATION:Kerith House
CATEGORIES:Live Music
ATTACH;FMTTYPE=image/heic:https://kerithhouse.com/wp-content/uploads/2025/12/CDACC591-410F-47DB-8FEE-BD0675838654_1_201_a-scaled.jpg
END:VEVENT
BEGIN:VEVENT
DTSTART;TZID=America/New_York:20261031T180000
DTEND;TZID=America/New_York:20261031T183000
DTSTAMP:20260425T145853
CREATED:20260207T015651Z
LAST-MODIFIED:20260311T021241Z
UID:10002624-1793469600-1793471400@kerithhouse.com
SUMMARY:Kerith House Vineyard Piper
DESCRIPTION:Come be a part of tradition and listen to our piper serenading the vines. Sometimes\, the weather is too cold for the pipes to work properly. Depending on the piper and if he or she has indoor pipes\, we may have to cancel on those days. Check our Facebook or Instagram pages if in doubt. 
URL:https://kerithhouse.com/event-calendar/kerith-house-vineyard-piper-3/2026-10-31/
LOCATION:Kerith House
CATEGORIES:Live Music
ATTACH;FMTTYPE=image/heic:https://kerithhouse.com/wp-content/uploads/2025/12/CDACC591-410F-47DB-8FEE-BD0675838654_1_201_a-scaled.jpg
END:VEVENT
BEGIN:VEVENT
DTSTART;TZID=America/New_York:20261107T180000
DTEND;TZID=America/New_York:20261107T183000
DTSTAMP:20260425T145853
CREATED:20260207T015651Z
LAST-MODIFIED:20260311T021241Z
UID:10002625-1794074400-1794076200@kerithhouse.com
SUMMARY:Kerith House Vineyard Piper
DESCRIPTION:Come be a part of tradition and listen to our piper serenading the vines. Sometimes\, the weather is too cold for the pipes to work properly. Depending on the piper and if he or she has indoor pipes\, we may have to cancel on those days. Check our Facebook or Instagram pages if in doubt. 
URL:https://kerithhouse.com/event-calendar/kerith-house-vineyard-piper-3/2026-11-07/
LOCATION:Kerith House
CATEGORIES:Live Music
ATTACH;FMTTYPE=image/heic:https://kerithhouse.com/wp-content/uploads/2025/12/CDACC591-410F-47DB-8FEE-BD0675838654_1_201_a-scaled.jpg
END:VEVENT
BEGIN:VEVENT
DTSTART;TZID=America/New_York:20261114T180000
DTEND;TZID=America/New_York:20261114T183000
DTSTAMP:20260425T145853
CREATED:20260207T015651Z
LAST-MODIFIED:20260311T021241Z
UID:10002626-1794679200-1794681000@kerithhouse.com
SUMMARY:Kerith House Vineyard Piper
DESCRIPTION:Come be a part of tradition and listen to our piper serenading the vines. Sometimes\, the weather is too cold for the pipes to work properly. Depending on the piper and if he or she has indoor pipes\, we may have to cancel on those days. Check our Facebook or Instagram pages if in doubt. 
URL:https://kerithhouse.com/event-calendar/kerith-house-vineyard-piper-3/2026-11-14/
LOCATION:Kerith House
CATEGORIES:Live Music
ATTACH;FMTTYPE=image/heic:https://kerithhouse.com/wp-content/uploads/2025/12/CDACC591-410F-47DB-8FEE-BD0675838654_1_201_a-scaled.jpg
END:VEVENT
BEGIN:VEVENT
DTSTART;TZID=America/New_York:20261121T180000
DTEND;TZID=America/New_York:20261121T183000
DTSTAMP:20260425T145853
CREATED:20260207T015651Z
LAST-MODIFIED:20260311T021241Z
UID:10002627-1795284000-1795285800@kerithhouse.com
SUMMARY:Kerith House Vineyard Piper
DESCRIPTION:Come be a part of tradition and listen to our piper serenading the vines. Sometimes\, the weather is too cold for the pipes to work properly. Depending on the piper and if he or she has indoor pipes\, we may have to cancel on those days. Check our Facebook or Instagram pages if in doubt. 
URL:https://kerithhouse.com/event-calendar/kerith-house-vineyard-piper-3/2026-11-21/
LOCATION:Kerith House
CATEGORIES:Live Music
ATTACH;FMTTYPE=image/heic:https://kerithhouse.com/wp-content/uploads/2025/12/CDACC591-410F-47DB-8FEE-BD0675838654_1_201_a-scaled.jpg
END:VEVENT
BEGIN:VEVENT
DTSTART;TZID=America/New_York:20261128T180000
DTEND;TZID=America/New_York:20261128T183000
DTSTAMP:20260425T145853
CREATED:20260207T015651Z
LAST-MODIFIED:20260311T021241Z
UID:10002628-1795888800-1795890600@kerithhouse.com
SUMMARY:Kerith House Vineyard Piper
DESCRIPTION:Come be a part of tradition and listen to our piper serenading the vines. Sometimes\, the weather is too cold for the pipes to work properly. Depending on the piper and if he or she has indoor pipes\, we may have to cancel on those days. Check our Facebook or Instagram pages if in doubt. 
URL:https://kerithhouse.com/event-calendar/kerith-house-vineyard-piper-3/2026-11-28/
LOCATION:Kerith House
CATEGORIES:Live Music
ATTACH;FMTTYPE=image/heic:https://kerithhouse.com/wp-content/uploads/2025/12/CDACC591-410F-47DB-8FEE-BD0675838654_1_201_a-scaled.jpg
END:VEVENT
END:VCALENDAR